BEGIN:VCALENDAR
VERSION:2.0
PRODID:-//Garfield Heights Information Hub - ECPv6.15.20//NONSGML v1.0//EN
CALSCALE:GREGORIAN
METHOD:PUBLISH
X-ORIGINAL-URL:https://garfieldheights.info
X-WR-CALDESC:Events for Garfield Heights Information Hub
REFRESH-INTERVAL;VALUE=DURATION:PT1H
X-Robots-Tag:noindex
X-PUBLISHED-TTL:PT1H
BEGIN:VTIMEZONE
TZID:America/New_York
BEGIN:DAYLIGHT
TZOFFSETFROM:-0500
TZOFFSETTO:-0400
TZNAME:EDT
DTSTART:20200308T070000
END:DAYLIGHT
BEGIN:STANDARD
TZOFFSETFROM:-0400
TZOFFSETTO:-0500
TZNAME:EST
DTSTART:20201101T060000
END:STANDARD
BEGIN:DAYLIGHT
TZOFFSETFROM:-0500
TZOFFSETTO:-0400
TZNAME:EDT
DTSTART:20210314T070000
END:DAYLIGHT
BEGIN:STANDARD
TZOFFSETFROM:-0400
TZOFFSETTO:-0500
TZNAME:EST
DTSTART:20211107T060000
END:STANDARD
BEGIN:DAYLIGHT
TZOFFSETFROM:-0500
TZOFFSETTO:-0400
TZNAME:EDT
DTSTART:20220313T070000
END:DAYLIGHT
BEGIN:STANDARD
TZOFFSETFROM:-0400
TZOFFSETTO:-0500
TZNAME:EST
DTSTART:20221106T060000
END:STANDARD
END:VTIMEZONE
BEGIN:VEVENT
DTSTART;TZID=America/New_York:20210412T190000
DTEND;TZID=America/New_York:20210412T203000
DTSTAMP:20260421T041831
CREATED:20210312T204411Z
LAST-MODIFIED:20210312T204411Z
UID:841-1618254000-1618259400@garfieldheights.info
SUMMARY:City Council Meeting
DESCRIPTION:Join On Facebook at: https://www.facebook.com/groups/ghohio\n\n—The Following is from: https://garfieldhts.org/City-Council —\n\nJOIN ZOOM MEETING\nHTTPS://US02WEB.ZOOM.US/J/89315474985\nMEETING ID:  89315474985\n\nDIAL TO ATTEND\n+1301 715 8592\n+1 312 626 6799\nMEETING ID:  89315474985\n\nWe appreciate your understanding and anticipate your cooperation. \nMayor Matt Burke and Garfield Heights City Council \n\n\nGarfield Heights City Council has regular meetings the second and fourth Monday of each month at 7 p.m. in the council chambers at the Civic Center. \nA council caucus session is held at 6:30 p.m. before each meeting. Council may schedule additional meetings to handle city business matters with 24 hours notice to the public. \nDuring the summer months\, council sessions are reduced to one meeting per month. \nAgendas and legislation to be considered at each meeting are posted the Friday prior to the meeting at public locations throughout the city including the Civic Center\, the Garfield Heights Justice Center\, the Boulevard Convenient and the Garfield Heights Regional Library. \nRecorded meetings of the Garfield Heights City Council are shown on local government access channels seven days a week. \nStarting times are listed below: \n\n3:00 am\n10:00 am\n1:30 pm\n4:30 pm\n8:00 pm\n10:30 pm\n\nFOR A LIST OF THE CODIFIED ORDINANCES\, please click here. \nFOR A LIST OF THE COUNCIL MINUTES\, please click here. \nFOR THE UPCOMING AGENDA please click here. \nFOR A LIST OF THE ORDINANCES AND RESOLUTIONS\, please click here. \n  \nWhich Ward do I live in?\nTo view the Ward Divisions\, please click here. \n  \n\n\n\n\n\nMichael T. Nenadovich\nCouncil President Pro Tem \nCouncil – Ward Three\n216-641-7056\nmnenadovich@garfieldhts.org\n\n\n\nMichael Dudley\, Sr.\nCouncil – Ward One \n216-324-7661\nmdudleysr@garfieldhts.org\nCharles Donahue\, Jr.\nCouncil – Ward Two\n216-501-7665\ncdonahue@garfieldhts.org\nShayla L. Davis\nCouncil – Ward Four\n216-532-5210\nsdavis@garfieldhts.org\n\n\nJason Blake\nCouncil – Ward Five\n216-338-7883\njblake@garfieldhts.org\nFrank Tagliarini\nCouncil – Ward Six\n216-315-0300\nftagliarini@garfieldhts.org\nThomas Vaughn\nCouncil – Ward Seven\n216-663-8837\ntvaughn@garfieldhts.org\n\n\n\nBarbara Molin\nClerk of Council\n216-475-0824\nbmolin@garfieldhts.org\n\n\n\nMail to any Council person should be sent to the following address: \nGarfield Heights City Hall\n5407 Turney Road\nGarfield Heights\, OH 44125
URL:https://garfieldheights.info/event/city-council-meeting/
CATEGORIES:Garfield Heights Events
END:VEVENT
BEGIN:VEVENT
DTSTART;TZID=America/New_York:20210322T190000
DTEND;TZID=America/New_York:20210322T203000
DTSTAMP:20260421T041831
CREATED:20210312T204309Z
LAST-MODIFIED:20210312T204435Z
UID:839-1616439600-1616445000@garfieldheights.info
SUMMARY:City Council Meetings
DESCRIPTION:Join On Facebook at: https://www.facebook.com/groups/ghohio\n\n—The Following is from: https://garfieldhts.org/City-Council —\n\nJOIN ZOOM MEETING\nHTTPS://US02WEB.ZOOM.US/J/89315474985\nMEETING ID:  89315474985\n\nDIAL TO ATTEND\n+1301 715 8592\n+1 312 626 6799\nMEETING ID:  89315474985\n\nWe appreciate your understanding and anticipate your cooperation. \nMayor Matt Burke and Garfield Heights City Council \n\n\nGarfield Heights City Council has regular meetings the second and fourth Monday of each month at 7 p.m. in the council chambers at the Civic Center. \nA council caucus session is held at 6:30 p.m. before each meeting. Council may schedule additional meetings to handle city business matters with 24 hours notice to the public. \nDuring the summer months\, council sessions are reduced to one meeting per month. \nAgendas and legislation to be considered at each meeting are posted the Friday prior to the meeting at public locations throughout the city including the Civic Center\, the Garfield Heights Justice Center\, the Boulevard Convenient and the Garfield Heights Regional Library. \nRecorded meetings of the Garfield Heights City Council are shown on local government access channels seven days a week. \nStarting times are listed below: \n\n3:00 am\n10:00 am\n1:30 pm\n4:30 pm\n8:00 pm\n10:30 pm\n\nFOR A LIST OF THE CODIFIED ORDINANCES\, please click here. \nFOR A LIST OF THE COUNCIL MINUTES\, please click here. \nFOR THE UPCOMING AGENDA please click here. \nFOR A LIST OF THE ORDINANCES AND RESOLUTIONS\, please click here. \n  \nWhich Ward do I live in?\nTo view the Ward Divisions\, please click here. \n  \n\n\n\n\n\nMichael T. Nenadovich\nCouncil President Pro Tem \nCouncil – Ward Three\n216-641-7056\nmnenadovich@garfieldhts.org\n\n\n\nMichael Dudley\, Sr.\nCouncil – Ward One \n216-324-7661\nmdudleysr@garfieldhts.org\nCharles Donahue\, Jr.\nCouncil – Ward Two\n216-501-7665\ncdonahue@garfieldhts.org\nShayla L. Davis\nCouncil – Ward Four\n216-532-5210\nsdavis@garfieldhts.org\n\n\nJason Blake\nCouncil – Ward Five\n216-338-7883\njblake@garfieldhts.org\nFrank Tagliarini\nCouncil – Ward Six\n216-315-0300\nftagliarini@garfieldhts.org\nThomas Vaughn\nCouncil – Ward Seven\n216-663-8837\ntvaughn@garfieldhts.org\n\n\n\nBarbara Molin\nClerk of Council\n216-475-0824\nbmolin@garfieldhts.org\n\n\n\nMail to any Council person should be sent to the following address: \nGarfield Heights City Hall\n5407 Turney Road\nGarfield Heights\, OH 44125
URL:https://garfieldheights.info/event/city-council-meetings/
CATEGORIES:Garfield Heights Events
END:VEVENT
END:VCALENDAR